BEGIN:VCALENDAR
VERSION:2.0
PRODID:-//PPT-THERAPY by Gerhard Egger - ECPv6.15.20//NONSGML v1.0//EN
CALSCALE:GREGORIAN
METHOD:PUBLISH
X-ORIGINAL-URL:https://www.ppt-therapy.academy
X-WR-CALDESC:Veranstaltungen für PPT-THERAPY by Gerhard Egger
REFRESH-INTERVAL;VALUE=DURATION:PT1H
X-Robots-Tag:noindex
X-PUBLISHED-TTL:PT1H
BEGIN:VTIMEZONE
TZID:Europe/Vienna
BEGIN:DAYLIGHT
TZOFFSETFROM:+0100
TZOFFSETTO:+0200
TZNAME:CEST
DTSTART:20240331T010000
END:DAYLIGHT
BEGIN:STANDARD
TZOFFSETFROM:+0200
TZOFFSETTO:+0100
TZNAME:CET
DTSTART:20241027T010000
END:STANDARD
BEGIN:DAYLIGHT
TZOFFSETFROM:+0100
TZOFFSETTO:+0200
TZNAME:CEST
DTSTART:20250330T010000
END:DAYLIGHT
BEGIN:STANDARD
TZOFFSETFROM:+0200
TZOFFSETTO:+0100
TZNAME:CET
DTSTART:20251026T010000
END:STANDARD
BEGIN:DAYLIGHT
TZOFFSETFROM:+0100
TZOFFSETTO:+0200
TZNAME:CEST
DTSTART:20260329T010000
END:DAYLIGHT
BEGIN:STANDARD
TZOFFSETFROM:+0200
TZOFFSETTO:+0100
TZNAME:CET
DTSTART:20261025T010000
END:STANDARD
BEGIN:DAYLIGHT
TZOFFSETFROM:+0100
TZOFFSETTO:+0200
TZNAME:CEST
DTSTART:20270328T010000
END:DAYLIGHT
BEGIN:STANDARD
TZOFFSETFROM:+0200
TZOFFSETTO:+0100
TZNAME:CET
DTSTART:20271031T010000
END:STANDARD
BEGIN:DAYLIGHT
TZOFFSETFROM:+0100
TZOFFSETTO:+0200
TZNAME:CEST
DTSTART:20280326T010000
END:DAYLIGHT
BEGIN:STANDARD
TZOFFSETFROM:+0200
TZOFFSETTO:+0100
TZNAME:CET
DTSTART:20281029T010000
END:STANDARD
END:VTIMEZONE
BEGIN:VEVENT
DTSTART;VALUE=DATE:20260528
DTEND;VALUE=DATE:20271129
DTSTAMP:20260423T113310
CREATED:20230427T093812Z
LAST-MODIFIED:20260414T171932Z
UID:3447-1779926400-1827446399@www.ppt-therapy.academy
SUMMARY:PPT-Therapeut/-in Intensiv-Ausbildung / Villach + OÖ
DESCRIPTION:Gesamt: € 7.300\,– brutto\n10% Rabattierung bei Komplettzahlung 30 Tage vor Kursbeginn\nRatenzahlung: € 2.000\,– brutto Anzahlung + 4 Raten je € 1.325\,– brutto vor nächstfolgendem Modul \nWiederholung eines Modul für bereits ausgebildete PPT-Therapeuten 320\,– brutto / Modul \nTermine Module:\nModul 1 Do 28.05. – So 31.05.2026\nModul 2 Do 24.09. – So 27.09.2026\nModul 3 Do 14.01. – So 17.01.2027 \nModul 4 Do 06.05. – So 09.05.2027\nModul 5 Do 09.09. – So 12.09.2027\nModul 6 Mi 24.11. – So 28.11.2027 \nVeranstaltungsort:  Modul 1-3 Oberösterreich OÖ Seminarhotel Schleglberg / Modul 4-6 wird noch bekanntgegeben. Mindestteilnehmeranzahl: 5 Personen \n 
URL:https://www.ppt-therapy.academy/event/ppt-therapeut-in-intensiv-ausbildung-villach-ooe/
LOCATION:Seminarhotel Schleglberg / Rottenbach OÖ\, Holzhäuseln 12\, Rottenbach\, Oberösterreich\, 4681\, Austria
CATEGORIES:PPT-Therapeut/in
ATTACH;FMTTYPE=image/jpeg:https://www.ppt-therapy.academy/wp-content/uploads/2023/08/Image2023_16_1080x720.jpg
ORGANIZER;CN="Power-Point-Therapy%C2%AE Academy":MAILTO:info@ppt-therapy.academy
END:VEVENT
BEGIN:VEVENT
DTSTART;TZID=Europe/Vienna:20251115T090000
DTEND;TZID=Europe/Vienna:20251115T170000
DTSTAMP:20260423T113310
CREATED:20231108T134610Z
LAST-MODIFIED:20241023T163629Z
UID:2773-1763197200-1763226000@www.ppt-therapy.academy
SUMMARY:PPT-Eigentherapie Seminar / OÖ Rottenbach
DESCRIPTION:Einzel: € 550\,– brutto\nPaar: € 660\,– brutto
URL:https://www.ppt-therapy.academy/event/ppt-eigentherapie-seminar-ooe-rottenbach-5/
LOCATION:Seminarhotel Schleglberg / Rottenbach OÖ\, Holzhäuseln 12\, Rottenbach\, Oberösterreich\, 4681\, Austria
CATEGORIES:PPT-Eigentherapie
ATTACH;FMTTYPE=image/jpeg:https://www.ppt-therapy.academy/wp-content/uploads/2023/04/image1-1080x720-1.jpg
END:VEVENT
BEGIN:VEVENT
DTSTART;TZID=Europe/Vienna:20251115T090000
DTEND;TZID=Europe/Vienna:20251115T170000
DTSTAMP:20260423T113310
CREATED:20251007T161910Z
LAST-MODIFIED:20251007T162111Z
UID:3634-1763197200-1763226000@www.ppt-therapy.academy
SUMMARY:PPT-Eigentherapie Seminar /Praxis Herzgrün-Lebenswert D-59494 Soest
DESCRIPTION:Einzel: € 550\,– brutto\nPaar: € 660\,– brutto
URL:https://www.ppt-therapy.academy/event/ppt-eigentherapie-seminar-praxis-herzgruen-lebenswert-d-59494-soest/
LOCATION:Herzgrün-Lebenswert / Sylvia & Thomas Klein\, Borggraben 1\, Soest\, 59494\, Deutschland
CATEGORIES:PPT-Eigentherapie
ATTACH;FMTTYPE=image/jpeg:https://www.ppt-therapy.academy/wp-content/uploads/2023/04/image1-1080x720-1.jpg
ORGANIZER;CN="Power-Point-Therapy%C2%AE Academy":MAILTO:info@ppt-therapy.academy
END:VEVENT
BEGIN:VEVENT
DTSTART;TZID=Europe/Vienna:20251115T090000
DTEND;TZID=Europe/Vienna:20251115T180000
DTSTAMP:20260423T113310
CREATED:20251015T142110Z
LAST-MODIFIED:20251015T183351Z
UID:3420-1763197200-1763229600@www.ppt-therapy.academy
SUMMARY:PPT-Eigentherapie Seminar / Hotel Schlossblick 6320 Angerberg
DESCRIPTION:Einzel: € 550\,– brutto\nPaar: € 660\,– brutto
URL:https://www.ppt-therapy.academy/event/ppt-eigentherapie-seminar-6305-itter-tirol/
LOCATION:Hotel Schlossblick / 6320 Angerberg Tirol\, Embach 1\, Angerberg\, Tirol\, 6320\, Austria
CATEGORIES:PPT-Eigentherapie
ATTACH;FMTTYPE=image/jpeg:https://www.ppt-therapy.academy/wp-content/uploads/2023/04/image1-1080x720-1.jpg
ORGANIZER;CN="Power-Point-Therapy%C2%AE Academy":MAILTO:info@ppt-therapy.academy
END:VEVENT
BEGIN:VEVENT
DTSTART;TZID=Europe/Vienna:20251116T090000
DTEND;TZID=Europe/Vienna:20251116T170000
DTSTAMP:20260423T113310
CREATED:20251016T171010Z
LAST-MODIFIED:20251016T172254Z
UID:3671-1763283600-1763312400@www.ppt-therapy.academy
SUMMARY:Energetische Auflösungsarbeit Einführungsseminar RR© Mentalcoaching / Tirol
DESCRIPTION:€ 125\,– brutto / 1-Tages Seminar \nSeminarzeiten: 09:00 Uhr – 17:00 Uhr
URL:https://www.ppt-therapy.academy/event/energetische-aufloesungsarbeit-einfuehrungsseminar-tirol/
LOCATION:Hotel Mariasteinerhof\, Mariastein 14\, Mariastein\, Tirol\, 6324
CATEGORIES:Energetische Auflösungsarbeit RR© Mentalcoaching
ATTACH;FMTTYPE=image/jpeg:https://www.ppt-therapy.academy/wp-content/uploads/2024/10/renate_rey.jpg
ORGANIZER;CN="Renate Rey RR%C2%A9 Mentalcoaching":MAILTO:info@ppt-therapy.academy
END:VEVENT
BEGIN:VEVENT
DTSTART;TZID=Europe/Vienna:20251116T090000
DTEND;TZID=Europe/Vienna:20251116T180000
DTSTAMP:20260423T113310
CREATED:20250924T172210Z
LAST-MODIFIED:20251015T183248Z
UID:3648-1763283600-1763316000@www.ppt-therapy.academy
SUMMARY:PPT-Eigentherapie Seminar / Hotel Schlossblick 6320 Angerberg
DESCRIPTION:Einzel: € 550\,– brutto\nPaar: € 660\,– brutto
URL:https://www.ppt-therapy.academy/event/ppt-eigentherapie-seminar-hotel-schlossblick-6320-angerberg/
LOCATION:Hotel Schlossblick / 6320 Angerberg Tirol\, Embach 1\, Angerberg\, Tirol\, 6320\, Austria
CATEGORIES:PPT-Eigentherapie
ATTACH;FMTTYPE=image/jpeg:https://www.ppt-therapy.academy/wp-content/uploads/2023/04/image1-1080x720-1.jpg
ORGANIZER;CN="Power-Point-Therapy%C2%AE Academy":MAILTO:info@ppt-therapy.academy
END:VEVENT
BEGIN:VEVENT
DTSTART;TZID=Europe/Vienna:20251116T100000
DTEND;TZID=Europe/Vienna:20251116T170000
DTSTAMP:20260423T113310
CREATED:20231108T134610Z
LAST-MODIFIED:20250704T152222Z
UID:3105-1763287200-1763312400@www.ppt-therapy.academy
SUMMARY:PPT-Eigentherapie Seminar Tier  / OÖ Steegen/Peuerbach
DESCRIPTION:Einzel: € 550\,– brutto\nPaar: € 660\,– brutto
URL:https://www.ppt-therapy.academy/event/ppt-eigentherapie-seminar-tier-ooe-steegen-peuerbach-4/
LOCATION:Reitstall Unterbubenberg / Steegen Peuerbach OÖ\, Unterbubenberg 6\, Steegen/Peuerbach\, Oberösterreich\, 4722\, Austria
CATEGORIES:PPT-Eigentherapie Tier
ATTACH;FMTTYPE=image/jpeg:https://www.ppt-therapy.academy/wp-content/uploads/2023/04/IMG-20231126-WA0046.jpg
END:VEVENT
BEGIN:VEVENT
DTSTART;TZID=Europe/Vienna:20251122T090000
DTEND;TZID=Europe/Vienna:20251122T170000
DTSTAMP:20260423T113310
CREATED:20231108T134610Z
LAST-MODIFIED:20241023T175322Z
UID:3017-1763802000-1763830800@www.ppt-therapy.academy
SUMMARY:PPT-Eigentherapie Seminar / Villach
DESCRIPTION:Einzel: € 550\,– brutto\nPaar: € 660\,– brutto
URL:https://www.ppt-therapy.academy/event/ppt-eigentherapie-seminar-villach-4/
LOCATION:PPT-Therapie- u. Schulungszentrum / Villach – Österreich\, Italiener Straße 54\, Villach\, 9500\, Österreich
CATEGORIES:PPT-Eigentherapie
ATTACH;FMTTYPE=image/jpeg:https://www.ppt-therapy.academy/wp-content/uploads/2023/04/image1-1080x720-1.jpg
ORGANIZER;CN="Power-Point-Therapy%C2%AE Academy":MAILTO:info@ppt-therapy.academy
END:VEVENT
BEGIN:VEVENT
DTSTART;TZID=Europe/Vienna:20251122T100000
DTEND;TZID=Europe/Vienna:20251122T170000
DTSTAMP:20260423T113310
CREATED:20231108T134610Z
LAST-MODIFIED:20250924T173125Z
UID:3426-1763805600-1763830800@www.ppt-therapy.academy
SUMMARY:PPT-Eigentherapie Seminar Tier  / 6320 Angerberg Tirol
DESCRIPTION:Einzel: € 550\,– brutto\nPaar: € 660\,– brutto
URL:https://www.ppt-therapy.academy/event/ppt-eigentherapie-seminar-tier-angerberg-tirol/
LOCATION:Familie Bramböck / 6320 Angerberg Tirol\, Embach 124\, Angerberg\, Tirol\, 6320
CATEGORIES:PPT-Eigentherapie Tier
ATTACH;FMTTYPE=image/jpeg:https://www.ppt-therapy.academy/wp-content/uploads/2023/04/IMG-20231126-WA0046.jpg
ORGANIZER;CN="Power-Point-Therapy%C2%AE Academy":MAILTO:info@ppt-therapy.academy
END:VEVENT
BEGIN:VEVENT
DTSTART;TZID=Europe/Vienna:20251129T090000
DTEND;TZID=Europe/Vienna:20251130T170000
DTSTAMP:20260423T113310
CREATED:20231108T134610Z
LAST-MODIFIED:20241023T145621Z
UID:2980-1764406800-1764522000@www.ppt-therapy.academy
SUMMARY:Weiterbildung Energetische Auflösungsarbeit Basisseminar
DESCRIPTION:€ 440\,– brutto / 2-Tages Seminar \nSeminarzeiten: 09:00 Uhr – 17:00 Uhr / 1. Tag Beginn um 10:00 Uhr Anreise
URL:https://www.ppt-therapy.academy/event/weiterbildung-energetische-aufloesungsarbeit-basisseminar-2/
LOCATION:PPT-Therapie- u. Schulungszentrum / Villach – Österreich\, Italiener Straße 54\, Villach\, 9500\, Österreich
CATEGORIES:Weiterbildung Energetische Auflösungsarbeit Basisseminar
ATTACH;FMTTYPE=image/jpeg:https://www.ppt-therapy.academy/wp-content/uploads/2024/10/renate_rey.jpg
ORGANIZER;CN="Power-Point-Therapy%C2%AE Academy":MAILTO:info@ppt-therapy.academy
END:VEVENT
END:VCALENDAR