BEGIN:VCALENDAR
VERSION:2.0
PRODID:-//PPT-THERAPY by Gerhard Egger - ECPv6.15.20//NONSGML v1.0//EN
CALSCALE:GREGORIAN
METHOD:PUBLISH
X-WR-CALNAME:PPT-THERAPY by Gerhard Egger
X-ORIGINAL-URL:https://www.ppt-therapy.academy
X-WR-CALDESC:Veranstaltungen für PPT-THERAPY by Gerhard Egger
REFRESH-INTERVAL;VALUE=DURATION:PT1H
X-Robots-Tag:noindex
X-PUBLISHED-TTL:PT1H
BEGIN:VTIMEZONE
TZID:Europe/Vienna
BEGIN:DAYLIGHT
TZOFFSETFROM:+0100
TZOFFSETTO:+0200
TZNAME:CEST
DTSTART:20250330T010000
END:DAYLIGHT
BEGIN:STANDARD
TZOFFSETFROM:+0200
TZOFFSETTO:+0100
TZNAME:CET
DTSTART:20251026T010000
END:STANDARD
BEGIN:DAYLIGHT
TZOFFSETFROM:+0100
TZOFFSETTO:+0200
TZNAME:CEST
DTSTART:20260329T010000
END:DAYLIGHT
BEGIN:STANDARD
TZOFFSETFROM:+0200
TZOFFSETTO:+0100
TZNAME:CET
DTSTART:20261025T010000
END:STANDARD
BEGIN:DAYLIGHT
TZOFFSETFROM:+0100
TZOFFSETTO:+0200
TZNAME:CEST
DTSTART:20270328T010000
END:DAYLIGHT
BEGIN:STANDARD
TZOFFSETFROM:+0200
TZOFFSETTO:+0100
TZNAME:CET
DTSTART:20271031T010000
END:STANDARD
BEGIN:DAYLIGHT
TZOFFSETFROM:+0100
TZOFFSETTO:+0200
TZNAME:CEST
DTSTART:20280326T010000
END:DAYLIGHT
BEGIN:STANDARD
TZOFFSETFROM:+0200
TZOFFSETTO:+0100
TZNAME:CET
DTSTART:20281029T010000
END:STANDARD
END:VTIMEZONE
BEGIN:VEVENT
DTSTART;VALUE=DATE:20260528
DTEND;VALUE=DATE:20271129
DTSTAMP:20260421T114549
CREATED:20230427T093812Z
LAST-MODIFIED:20260414T171932Z
UID:3447-1779926400-1827446399@www.ppt-therapy.academy
SUMMARY:PPT-Therapeut/-in Intensiv-Ausbildung / Villach + OÖ
DESCRIPTION:Gesamt: € 7.300\,– brutto\n10% Rabattierung bei Komplettzahlung 30 Tage vor Kursbeginn\nRatenzahlung: € 2.000\,– brutto Anzahlung + 4 Raten je € 1.325\,– brutto vor nächstfolgendem Modul \nWiederholung eines Modul für bereits ausgebildete PPT-Therapeuten 320\,– brutto / Modul \nTermine Module:\nModul 1 Do 28.05. – So 31.05.2026\nModul 2 Do 24.09. – So 27.09.2026\nModul 3 Do 14.01. – So 17.01.2027 \nModul 4 Do 06.05. – So 09.05.2027\nModul 5 Do 09.09. – So 12.09.2027\nModul 6 Mi 24.11. – So 28.11.2027 \nVeranstaltungsort:  Modul 1-3 Oberösterreich OÖ Seminarhotel Schleglberg / Modul 4-6 wird noch bekanntgegeben. Mindestteilnehmeranzahl: 5 Personen \n 
URL:https://www.ppt-therapy.academy/event/ppt-therapeut-in-intensiv-ausbildung-villach-ooe/
LOCATION:Seminarhotel Schleglberg / Rottenbach OÖ\, Holzhäuseln 12\, Rottenbach\, Oberösterreich\, 4681\, Austria
CATEGORIES:PPT-Therapeut/in
ATTACH;FMTTYPE=image/jpeg:https://www.ppt-therapy.academy/wp-content/uploads/2023/08/Image2023_16_1080x720.jpg
ORGANIZER;CN="Power-Point-Therapy%C2%AE Academy":MAILTO:info@ppt-therapy.academy
END:VEVENT
BEGIN:VEVENT
DTSTART;TZID=Europe/Vienna:20260305T000000
DTEND;TZID=Europe/Vienna:20261004T000000
DTSTAMP:20260421T114549
CREATED:20230427T093812Z
LAST-MODIFIED:20260210T193334Z
UID:3801-1772668800-1791072000@www.ppt-therapy.academy
SUMMARY:PPT-Ernährungs Coach Seminar / OÖ
DESCRIPTION:Gesamt: € 1.890\,– brutto\nRatenzahlung: € 1.000\,– brutto Anzahlung + Restzahlung € 890– brutto vor Seminarbeginn \nTermine Module:\nModul 1 Do 05.03. – So 08.03.2026\nModul 2 Fr 05.06. – So 07.06.2026\nModul 3 Do 01.10. – So 04.10.2026 \nSeminarzeiten: 09.00 Uhr bis 17.00 Uhr
URL:https://www.ppt-therapy.academy/event/ppt-ernaehrungs-coach-seminar-ooe/
LOCATION:Bildungshaus Schloss Puchberg / Wels OÖ\, Puchberg 1\, Wels\, Oberösterreich\, 4600\, Austria
CATEGORIES:PPT-Ernährungs Coach
ATTACH;FMTTYPE=image/jpeg:https://www.ppt-therapy.academy/wp-content/uploads/2023/11/Image2023_ernaehrung_1080x720.jpg
ORGANIZER;CN="Power-Point-Therapy%C2%AE Academy":MAILTO:info@ppt-therapy.academy
END:VEVENT
BEGIN:VEVENT
DTSTART;VALUE=DATE:20260423
DTEND;VALUE=DATE:20261012
DTSTAMP:20260421T114549
CREATED:20250924T193012Z
LAST-MODIFIED:20251208T185528Z
UID:3714-1776902400-1791763199@www.ppt-therapy.academy
SUMMARY:PPT-Tiertherapeut/-in Intensiv-Ausbildung/ Angerberg TIROL
DESCRIPTION:Gesamt: € 2.680\,– brutto\nRatenzahlung: € 1.000\,– brutto Anzahlung + 2 Raten je € 840– brutto vor nächstfolgendem Modul \nTermine Module:\nModul 1 Do 23.04. – So 26.04.2026 / Angerberg TIROL\nModul 2 Do 18.06.– So 21.06.2026 / Angerberg TIROL\nModul 3 Do 08.10. – So 11.10.2026 / Angerberg TIROL \nSeminarzeiten: 09.00 Uhr bis 17.00 Uhr
URL:https://www.ppt-therapy.academy/event/ppt-tiertherapeut-in-intensiv-ausbildung-angerberg-tirol/
LOCATION:Familie Bramböck / 6320 Angerberg Tirol\, Embach 124\, Angerberg\, Tirol\, 6320
CATEGORIES:PPT-Tiertherapeut/in
ATTACH;FMTTYPE=image/jpeg:https://www.ppt-therapy.academy/wp-content/uploads/2023/04/IMG-20231126-WA0035.jpg
ORGANIZER;CN="Power-Point-Therapy%C2%AE Academy":MAILTO:info@ppt-therapy.academy
END:VEVENT
BEGIN:VEVENT
DTSTART;TZID=Europe/Vienna:20260425T090000
DTEND;TZID=Europe/Vienna:20260425T170000
DTSTAMP:20260421T114549
CREATED:20250926T173010Z
LAST-MODIFIED:20250926T174246Z
UID:3561-1777107600-1777136400@www.ppt-therapy.academy
SUMMARY:PPT-Eigentherapie Seminar / Villach
DESCRIPTION:Einzel: € 550\,– brutto\nPaar: € 660\,– brutto
URL:https://www.ppt-therapy.academy/event/ppt-eigentherapie-seminar-villach-6/
LOCATION:PPT-Therapie- u. Schulungszentrum / Villach – Österreich\, Italiener Straße 54\, Villach\, 9500\, Österreich
CATEGORIES:PPT-Eigentherapie
ATTACH;FMTTYPE=image/jpeg:https://www.ppt-therapy.academy/wp-content/uploads/2023/04/image1-1080x720-1.jpg
ORGANIZER;CN="Power-Point-Therapy%C2%AE Academy":MAILTO:info@ppt-therapy.academy
END:VEVENT
BEGIN:VEVENT
DTSTART;TZID=Europe/Vienna:20260509T090000
DTEND;TZID=Europe/Vienna:20260509T170000
DTSTAMP:20260421T114549
CREATED:20250926T170810Z
LAST-MODIFIED:20250926T171449Z
UID:3536-1778317200-1778346000@www.ppt-therapy.academy
SUMMARY:PPT-Eigentherapie Seminar / OÖ Rottenbach
DESCRIPTION:Einzel: € 550\,– brutto\nPaar: € 660\,– brutto
URL:https://www.ppt-therapy.academy/event/ppt-eigentherapie-seminar-ooe-rottenbach-8/
LOCATION:Seminarhotel Schleglberg / Rottenbach OÖ\, Holzhäuseln 12\, Rottenbach\, Oberösterreich\, 4681\, Austria
CATEGORIES:PPT-Eigentherapie
ATTACH;FMTTYPE=image/jpeg:https://www.ppt-therapy.academy/wp-content/uploads/2023/04/image1-1080x720-1.jpg
ORGANIZER;CN="Power-Point-Therapy%C2%AE Academy":MAILTO:info@ppt-therapy.academy
END:VEVENT
BEGIN:VEVENT
DTSTART;TZID=Europe/Vienna:20260510T100000
DTEND;TZID=Europe/Vienna:20260510T170000
DTSTAMP:20260421T114549
CREATED:20250924T194210Z
LAST-MODIFIED:20250924T194441Z
UID:3510-1778407200-1778432400@www.ppt-therapy.academy
SUMMARY:PPT-Eigentherapie Seminar Tier  / OÖ Steegen/Peuerbach
DESCRIPTION:Einzel: € 550\,– brutto\nPaar: € 660\,– brutto
URL:https://www.ppt-therapy.academy/event/ppt-eigentherapie-seminar-tier-ooe-steegen-peuerbach-7/
LOCATION:Reitstall Unterbubenberg / Steegen Peuerbach OÖ\, Unterbubenberg 6\, Steegen/Peuerbach\, Oberösterreich\, 4722\, Austria
CATEGORIES:PPT-Eigentherapie Tier
ATTACH;FMTTYPE=image/jpeg:https://www.ppt-therapy.academy/wp-content/uploads/2023/04/IMG-20231126-WA0046.jpg
ORGANIZER;CN="Power-Point-Therapy%C2%AE Academy":MAILTO:info@ppt-therapy.academy
END:VEVENT
BEGIN:VEVENT
DTSTART;TZID=Europe/Vienna:20260627T090000
DTEND;TZID=Europe/Vienna:20260627T170000
DTSTAMP:20260421T114549
CREATED:20231108T134610Z
LAST-MODIFIED:20260131T102640Z
UID:3763-1782550800-1782579600@www.ppt-therapy.academy
SUMMARY:PPT-Eigentherapie Seminar / LIE Praxis Jutta Hofer\, Eschen
DESCRIPTION:Einzel: € 550\,– brutto\nPaar: € 660\,– brutto
URL:https://www.ppt-therapy.academy/event/ppt-eigentherapie-seminar-lie-praxis-jutta-hofer-eschen/
LOCATION:Praxis Jutta Hofer / Eschen – Liechtenstein\, Essanestraße 97\, Eschen\, 9492\, Liechtenstein
CATEGORIES:PPT-Eigentherapie
ATTACH;FMTTYPE=image/jpeg:https://www.ppt-therapy.academy/wp-content/uploads/2023/04/image1-1080x720-1.jpg
ORGANIZER;CN="Power-Point-Therapy%C2%AE Academy":MAILTO:info@ppt-therapy.academy
END:VEVENT
BEGIN:VEVENT
DTSTART;TZID=Europe/Vienna:20260628T090000
DTEND;TZID=Europe/Vienna:20260628T170000
DTSTAMP:20260421T114549
CREATED:20250926T170810Z
LAST-MODIFIED:20260414T170601Z
UID:3851-1782637200-1782666000@www.ppt-therapy.academy
SUMMARY:PPT-Eigentherapie Seminar / NÖ Steinakirchen am Forst
DESCRIPTION:Einzel: € 550\,– brutto\nPaar: € 660\,– brutto
URL:https://www.ppt-therapy.academy/event/ppt-eigentherapie-seminar-noe-steinakirchen-am-forst/
LOCATION:„Haus der Begegnung“ / 3261 Steinakirchen am Forst NÖ\, Panoramagasse 7\, Steinakirchen am Forst\, Niederösterreich\, 3261\, Austria
CATEGORIES:PPT-Eigentherapie
ATTACH;FMTTYPE=image/jpeg:https://www.ppt-therapy.academy/wp-content/uploads/2023/04/image1-1080x720-1.jpg
ORGANIZER;CN="Power-Point-Therapy%C2%AE Academy":MAILTO:info@ppt-therapy.academy
END:VEVENT
BEGIN:VEVENT
DTSTART;TZID=Europe/Vienna:20260704T090000
DTEND;TZID=Europe/Vienna:20260704T170000
DTSTAMP:20260421T114549
CREATED:20250926T170810Z
LAST-MODIFIED:20250926T171640Z
UID:3541-1783155600-1783184400@www.ppt-therapy.academy
SUMMARY:PPT-Eigentherapie Seminar / OÖ Rottenbach
DESCRIPTION:Einzel: € 550\,– brutto\nPaar: € 660\,– brutto
URL:https://www.ppt-therapy.academy/event/ppt-eigentherapie-seminar-ooe-rottenbach-9/
LOCATION:Seminarhotel Schleglberg / Rottenbach OÖ\, Holzhäuseln 12\, Rottenbach\, Oberösterreich\, 4681\, Austria
CATEGORIES:PPT-Eigentherapie
ATTACH;FMTTYPE=image/jpeg:https://www.ppt-therapy.academy/wp-content/uploads/2023/04/image1-1080x720-1.jpg
ORGANIZER;CN="Power-Point-Therapy%C2%AE Academy":MAILTO:info@ppt-therapy.academy
END:VEVENT
BEGIN:VEVENT
DTSTART;TZID=Europe/Vienna:20260704T090000
DTEND;TZID=Europe/Vienna:20260704T170000
DTSTAMP:20260421T114549
CREATED:20250926T173010Z
LAST-MODIFIED:20250926T174552Z
UID:3566-1783155600-1783184400@www.ppt-therapy.academy
SUMMARY:PPT-Eigentherapie Seminar / Villach
DESCRIPTION:Einzel: € 550\,– brutto\nPaar: € 660\,– brutto
URL:https://www.ppt-therapy.academy/event/ppt-eigentherapie-seminar-villach-7/
LOCATION:PPT-Therapie- u. Schulungszentrum / Villach – Österreich\, Italiener Straße 54\, Villach\, 9500\, Österreich
CATEGORIES:PPT-Eigentherapie
ATTACH;FMTTYPE=image/jpeg:https://www.ppt-therapy.academy/wp-content/uploads/2023/04/image1-1080x720-1.jpg
ORGANIZER;CN="Power-Point-Therapy%C2%AE Academy":MAILTO:info@ppt-therapy.academy
END:VEVENT
BEGIN:VEVENT
DTSTART;TZID=Europe/Vienna:20260705T100000
DTEND;TZID=Europe/Vienna:20260705T170000
DTSTAMP:20260421T114549
CREATED:20250924T194210Z
LAST-MODIFIED:20250924T195316Z
UID:3520-1783245600-1783270800@www.ppt-therapy.academy
SUMMARY:PPT-Eigentherapie Seminar Tier  / OÖ Steegen/Peuerbach
DESCRIPTION:Einzel: € 550\,– brutto\nPaar: € 660\,– brutto
URL:https://www.ppt-therapy.academy/event/ppt-eigentherapie-seminar-tier-ooe-steegen-peuerbach-9/
LOCATION:Reitstall Unterbubenberg / Steegen Peuerbach OÖ\, Unterbubenberg 6\, Steegen/Peuerbach\, Oberösterreich\, 4722\, Austria
CATEGORIES:PPT-Eigentherapie Tier
ATTACH;FMTTYPE=image/jpeg:https://www.ppt-therapy.academy/wp-content/uploads/2023/04/IMG-20231126-WA0046.jpg
ORGANIZER;CN="Power-Point-Therapy%C2%AE Academy":MAILTO:info@ppt-therapy.academy
END:VEVENT
BEGIN:VEVENT
DTSTART;VALUE=DATE:20260709
DTEND;VALUE=DATE:20270301
DTSTAMP:20260421T114549
CREATED:20250924T193012Z
LAST-MODIFIED:20260108T165912Z
UID:3454-1783555200-1803859199@www.ppt-therapy.academy
SUMMARY:PPT-Tiertherapeut/-in Intensiv-Ausbildung/ Peuerbach OÖ
DESCRIPTION:Gesamt: € 2.680\,– brutto\nRatenzahlung: € 1.000\,– brutto Anzahlung + 2 Raten je € 840– brutto vor nächstfolgendem Modul \nTermine Module:\nModul 1 Do 09.07. – So 12.07.2026 /Peuerbach OÖ\nModul 2 Do 15.10. – So 18.10.2026 /Peuerbach OÖ\nModul 3 Do 25.02. – So 28.02.2027 /Peuerbach OÖ \nSeminarzeiten: 09.00 Uhr bis 17.00 Uhr
URL:https://www.ppt-therapy.academy/event/ppt-tiertherapeut-in-intensiv-ausbildung-2/
LOCATION:Reitstall Unterbubenberg / Steegen Peuerbach OÖ\, Unterbubenberg 6\, Steegen/Peuerbach\, Oberösterreich\, 4722\, Austria
CATEGORIES:PPT-Tiertherapeut/in
ATTACH;FMTTYPE=image/jpeg:https://www.ppt-therapy.academy/wp-content/uploads/2023/04/IMG-20231126-WA0035.jpg
ORGANIZER;CN="Power-Point-Therapy%C2%AE Academy":MAILTO:info@ppt-therapy.academy
END:VEVENT
BEGIN:VEVENT
DTSTART;TZID=Europe/Vienna:20260821T090000
DTEND;TZID=Europe/Vienna:20260823T170000
DTSTAMP:20260421T114549
CREATED:20231108T134610Z
LAST-MODIFIED:20250128T183449Z
UID:2106-1787302800-1787504400@www.ppt-therapy.academy
SUMMARY:Weiterbildung Außerordentliche Meridiane
DESCRIPTION:€ 680\,– brutto / 3-Tages Seminar \nSeminarzeiten: 09:00 Uhr – 17:00 Uhr / 1. Tag Beginn um 10:00 Uhr Anreise
URL:https://www.ppt-therapy.academy/event/weiterbildung-ausserordentlichen-meridiane/
LOCATION:PPT-Therapie- u. Schulungszentrum / Villach – Österreich\, Italiener Straße 54\, Villach\, 9500\, Österreich
CATEGORIES:Weiterbildung außerordentlichen Meridiane
ATTACH;FMTTYPE=image/jpeg:https://www.ppt-therapy.academy/wp-content/uploads/2023/08/Image2023_16_1080x720.jpg
ORGANIZER;CN="Power-Point-Therapy%C2%AE Academy":MAILTO:info@ppt-therapy.academy
END:VEVENT
BEGIN:VEVENT
DTSTART;TZID=Europe/Vienna:20260926T090000
DTEND;TZID=Europe/Vienna:20260926T170000
DTSTAMP:20260421T114549
CREATED:20250926T173010Z
LAST-MODIFIED:20250926T174801Z
UID:3571-1790413200-1790442000@www.ppt-therapy.academy
SUMMARY:PPT-Eigentherapie Seminar / Villach
DESCRIPTION:Einzel: € 550\,– brutto\nPaar: € 660\,– brutto
URL:https://www.ppt-therapy.academy/event/ppt-eigentherapie-seminar-villach-8/
LOCATION:PPT-Therapie- u. Schulungszentrum / Villach – Österreich\, Italiener Straße 54\, Villach\, 9500\, Österreich
CATEGORIES:PPT-Eigentherapie
ATTACH;FMTTYPE=image/jpeg:https://www.ppt-therapy.academy/wp-content/uploads/2023/04/image1-1080x720-1.jpg
ORGANIZER;CN="Power-Point-Therapy%C2%AE Academy":MAILTO:info@ppt-therapy.academy
END:VEVENT
BEGIN:VEVENT
DTSTART;TZID=Europe/Vienna:20261001T000000
DTEND;TZID=Europe/Vienna:20270307T000000
DTSTAMP:20260421T114549
CREATED:20230427T093812Z
LAST-MODIFIED:20260210T193624Z
UID:2912-1790812800-1804377600@www.ppt-therapy.academy
SUMMARY:PPT-Ernährungs Coach Seminar / Villach
DESCRIPTION:Gesamt: € 1.890\,– brutto\nRatenzahlung: € 1.000\,– brutto Anzahlung + Restzahlung € 890– brutto vor Seminarbeginn \nTermine Module:\nModul 1 Do 01.10. – So 04.10.2026\nModul 2 Fr 11.12. – So 13.12.2026\nModul 3 Do 04.03. – So 07.03.2027 \nSeminarzeiten: 09.00 Uhr bis 17.00 Uhr
URL:https://www.ppt-therapy.academy/event/ppt-ernaehrungs-coach/
LOCATION:PPT-Therapie- u. Schulungszentrum / Villach – Österreich\, Italiener Straße 54\, Villach\, 9500\, Österreich
CATEGORIES:PPT-Ernährungs Coach
ATTACH;FMTTYPE=image/jpeg:https://www.ppt-therapy.academy/wp-content/uploads/2023/11/Image2023_ernaehrung_1080x720.jpg
ORGANIZER;CN="Power-Point-Therapy%C2%AE Academy":MAILTO:info@ppt-therapy.academy
END:VEVENT
BEGIN:VEVENT
DTSTART;TZID=Europe/Vienna:20261003T090000
DTEND;TZID=Europe/Vienna:20261003T170000
DTSTAMP:20260421T114549
CREATED:20250926T170810Z
LAST-MODIFIED:20250926T171830Z
UID:3546-1791018000-1791046800@www.ppt-therapy.academy
SUMMARY:PPT-Eigentherapie Seminar / OÖ Rottenbach
DESCRIPTION:Einzel: € 550\,– brutto\nPaar: € 660\,– brutto
URL:https://www.ppt-therapy.academy/event/ppt-eigentherapie-seminar-ooe-rottenbach-10/
LOCATION:Seminarhotel Schleglberg / Rottenbach OÖ\, Holzhäuseln 12\, Rottenbach\, Oberösterreich\, 4681\, Austria
CATEGORIES:PPT-Eigentherapie
ATTACH;FMTTYPE=image/jpeg:https://www.ppt-therapy.academy/wp-content/uploads/2023/04/image1-1080x720-1.jpg
ORGANIZER;CN="Power-Point-Therapy%C2%AE Academy":MAILTO:info@ppt-therapy.academy
END:VEVENT
BEGIN:VEVENT
DTSTART;TZID=Europe/Vienna:20261004T100000
DTEND;TZID=Europe/Vienna:20261004T170000
DTSTAMP:20260421T114549
CREATED:20250924T194210Z
LAST-MODIFIED:20250924T194920Z
UID:3515-1791108000-1791133200@www.ppt-therapy.academy
SUMMARY:PPT-Eigentherapie Seminar Tier  / OÖ Steegen/Peuerbach
DESCRIPTION:Einzel: € 550\,– brutto\nPaar: € 660\,– brutto
URL:https://www.ppt-therapy.academy/event/ppt-eigentherapie-seminar-tier-ooe-steegen-peuerbach-8/
LOCATION:Reitstall Unterbubenberg / Steegen Peuerbach OÖ\, Unterbubenberg 6\, Steegen/Peuerbach\, Oberösterreich\, 4722\, Austria
CATEGORIES:PPT-Eigentherapie Tier
ATTACH;FMTTYPE=image/jpeg:https://www.ppt-therapy.academy/wp-content/uploads/2023/04/IMG-20231126-WA0046.jpg
ORGANIZER;CN="Power-Point-Therapy%C2%AE Academy":MAILTO:info@ppt-therapy.academy
END:VEVENT
BEGIN:VEVENT
DTSTART;TZID=Europe/Vienna:20261024T100000
DTEND;TZID=Europe/Vienna:20261024T170000
DTSTAMP:20260421T114549
CREATED:20231108T134610Z
LAST-MODIFIED:20260331T175532Z
UID:3838-1792836000-1792861200@www.ppt-therapy.academy
SUMMARY:PPT-Eigentherapie Seminar Tier  / 6320 Angerberg Tirol
DESCRIPTION:Einzel: € 550\,– brutto\nPaar: € 660\,– brutto
URL:https://www.ppt-therapy.academy/event/ppt-eigentherapie-seminar-tier-6320-angerberg-tirol-2/
LOCATION:Familie Bramböck / 6320 Angerberg Tirol\, Embach 124\, Angerberg\, Tirol\, 6320
CATEGORIES:PPT-Eigentherapie Tier
ATTACH;FMTTYPE=image/jpeg:https://www.ppt-therapy.academy/wp-content/uploads/2023/04/IMG-20231126-WA0046.jpg
ORGANIZER;CN="Power-Point-Therapy%C2%AE Academy":MAILTO:info@ppt-therapy.academy
END:VEVENT
BEGIN:VEVENT
DTSTART;TZID=Europe/Vienna:20261106T090000
DTEND;TZID=Europe/Vienna:20261106T170000
DTSTAMP:20260421T114549
CREATED:20231108T134610Z
LAST-MODIFIED:20260331T181716Z
UID:3768-1793955600-1793984400@www.ppt-therapy.academy
SUMMARY:PPT-Eigentherapie Seminar / LIE Praxis Jutta Hofer\, Eschen
DESCRIPTION:Einzel: € 550\,– brutto\nPaar: € 660\,– brutto
URL:https://www.ppt-therapy.academy/event/ppt-eigentherapie-seminar-lie-praxis-jutta-hofer-eschen-2/
LOCATION:Praxis Jutta Hofer / Eschen – Liechtenstein\, Essanestraße 97\, Eschen\, 9492\, Liechtenstein
CATEGORIES:PPT-Eigentherapie
ATTACH;FMTTYPE=image/jpeg:https://www.ppt-therapy.academy/wp-content/uploads/2023/04/image1-1080x720-1.jpg
ORGANIZER;CN="Power-Point-Therapy%C2%AE Academy":MAILTO:info@ppt-therapy.academy
END:VEVENT
BEGIN:VEVENT
DTSTART;TZID=Europe/Vienna:20261114T090000
DTEND;TZID=Europe/Vienna:20261114T170000
DTSTAMP:20260421T114549
CREATED:20250926T170810Z
LAST-MODIFIED:20250926T172017Z
UID:3551-1794646800-1794675600@www.ppt-therapy.academy
SUMMARY:PPT-Eigentherapie Seminar / OÖ Rottenbach
DESCRIPTION:Einzel: € 550\,– brutto\nPaar: € 660\,– brutto
URL:https://www.ppt-therapy.academy/event/ppt-eigentherapie-seminar-ooe-rottenbach-11/
LOCATION:Seminarhotel Schleglberg / Rottenbach OÖ\, Holzhäuseln 12\, Rottenbach\, Oberösterreich\, 4681\, Austria
CATEGORIES:PPT-Eigentherapie
ATTACH;FMTTYPE=image/jpeg:https://www.ppt-therapy.academy/wp-content/uploads/2023/04/image1-1080x720-1.jpg
ORGANIZER;CN="Power-Point-Therapy%C2%AE Academy":MAILTO:info@ppt-therapy.academy
END:VEVENT
BEGIN:VEVENT
DTSTART;TZID=Europe/Vienna:20261121T090000
DTEND;TZID=Europe/Vienna:20261122T170000
DTSTAMP:20260421T114549
CREATED:20231108T134610Z
LAST-MODIFIED:20260331T180350Z
UID:2992-1795251600-1795366800@www.ppt-therapy.academy
SUMMARY:Weiterbildung PPT-Trainerausbildung Eigentherapie
DESCRIPTION:Einmalige Trainerpauschale 1.200\,– Euro \n2-Tages Seminar \nSeminarzeiten: 09:00 Uhr – 17:00 Uhr / 1. Tag Beginn um 10:00 Uhr Anreise
URL:https://www.ppt-therapy.academy/event/weiterbildung-ppt-trainerausbildung-eigentherapie/
LOCATION:PPT-Therapie- u. Schulungszentrum / Villach – Österreich\, Italiener Straße 54\, Villach\, 9500\, Österreich
CATEGORIES:Weiterbildung PPT-Trainerausbildung Eigentherapie
ATTACH;FMTTYPE=image/jpeg:https://www.ppt-therapy.academy/wp-content/uploads/2025/02/1080x720_2024_praesentation.jpg
ORGANIZER;CN="Power-Point-Therapy%C2%AE Academy":MAILTO:info@ppt-therapy.academy
END:VEVENT
BEGIN:VEVENT
DTSTART;TZID=Europe/Vienna:20261128T090000
DTEND;TZID=Europe/Vienna:20261128T170000
DTSTAMP:20260421T114549
CREATED:20250926T173010Z
LAST-MODIFIED:20250926T175113Z
UID:3576-1795856400-1795885200@www.ppt-therapy.academy
SUMMARY:PPT-Eigentherapie Seminar / Villach
DESCRIPTION:Einzel: € 550\,– brutto\nPaar: € 660\,– brutto
URL:https://www.ppt-therapy.academy/event/ppt-eigentherapie-seminar-villach-9/
LOCATION:PPT-Therapie- u. Schulungszentrum / Villach – Österreich\, Italiener Straße 54\, Villach\, 9500\, Österreich
CATEGORIES:PPT-Eigentherapie
ATTACH;FMTTYPE=image/jpeg:https://www.ppt-therapy.academy/wp-content/uploads/2023/04/image1-1080x720-1.jpg
ORGANIZER;CN="Power-Point-Therapy%C2%AE Academy":MAILTO:info@ppt-therapy.academy
END:VEVENT
END:VCALENDAR